BEGIN:VCALENDAR
VERSION:2.0
PRODID:-//ZsikePhoto - ECPv6.15.20//NONSGML v1.0//EN
CALSCALE:GREGORIAN
METHOD:PUBLISH
X-ORIGINAL-URL:https://zsikephoto.com
X-WR-CALDESC:Események ZsikePhoto
REFRESH-INTERVAL;VALUE=DURATION:PT1H
X-Robots-Tag:noindex
X-PUBLISHED-TTL:PT1H
BEGIN:VTIMEZONE
TZID:UTC
BEGIN:STANDARD
TZOFFSETFROM:+0000
TZOFFSETTO:+0000
TZNAME:UTC
DTSTART:20240101T000000
END:STANDARD
END:VTIMEZONE
BEGIN:VEVENT
DTSTART;TZID=UTC:20250201T080000
DTEND;TZID=UTC:20251130T170000
DTSTAMP:20260425T223411
CREATED:20250131T132803Z
LAST-MODIFIED:20250131T132803Z
UID:4915-1738396800-1764522000@zsikephoto.com
SUMMARY:MasterClass 2025 VÁRÓLISTA
DESCRIPTION:Jelentkezésnél kérlek vedd figyelembe\, hogy a csoport csak akkor indul el\, ha összejön a létszám. \nA csoporttal 1 hónapos csúsztatással\, Márciustól-Novemberig fogunk találkozni \nA visszaigazoló email-ben megjelölt bankszámlára az 50.000 Ft előleget küldd el kérlek\, viszont ha a létszám nem jön össze\, természetesen visszautalom a teljes összeget. \nErre a bankszámlára tudsz utalni: \nFehér-Tarcsi Erzsébet\n11742104-24299369 \nKöszönöm 🙂
URL:https://zsikephoto.com/event/masterclass-2025-varolista/
LOCATION:ZsikePhoto\, ZsikePhoto\, Mády Lajos utca 2\, Budapest\, 1041\, Magyarország
ORGANIZER;CN="Feh%C3%A9r-Tarcsi Erzs%C3%A9bet":MAILTO:zsikephoto@gmail.com
END:VEVENT
BEGIN:VEVENT
DTSTART;TZID=UTC:20251017T090000
DTEND;TZID=UTC:20251017T140000
DTSTAMP:20260425T223411
CREATED:20250921T081811Z
LAST-MODIFIED:20250921T081811Z
UID:5048-1760691600-1760709600@zsikephoto.com
SUMMARY:Karácsonyi Workshop Október 17.
DESCRIPTION:1 óra elmélet\, 2-3 óra fotózás (gyerekektől függ)\, azután kötetlen beszélgetés\, maximum 6 fő \nÁr: 70 e Ft/fő
URL:https://zsikephoto.com/event/karacsonyi-workshop-oktober-17/
LOCATION:ZsikePhoto\, ZsikePhoto\, Mády Lajos utca 2\, Budapest\, 1041\, Magyarország
ORGANIZER;CN="Feh%C3%A9r-Tarcsi Erzs%C3%A9bet":MAILTO:zsikephoto@gmail.com
END:VEVENT
END:VCALENDAR