BEGIN:VCALENDAR
VERSION:2.0
PRODID:-//ZsikePhoto - ECPv6.15.20//NONSGML v1.0//EN
CALSCALE:GREGORIAN
METHOD:PUBLISH
X-ORIGINAL-URL:https://zsikephoto.com
X-WR-CALDESC:Események ZsikePhoto
REFRESH-INTERVAL;VALUE=DURATION:PT1H
X-Robots-Tag:noindex
X-PUBLISHED-TTL:PT1H
BEGIN:VTIMEZONE
TZID:UTC
BEGIN:STANDARD
TZOFFSETFROM:+0000
TZOFFSETTO:+0000
TZNAME:UTC
DTSTART:20240101T000000
END:STANDARD
END:VTIMEZONE
BEGIN:VEVENT
DTSTART;TZID=UTC:20251214T090000
DTEND;TZID=UTC:20251214T150000
DTSTAMP:20260425T191800
CREATED:20251106T163228Z
LAST-MODIFIED:20251106T163322Z
UID:5105-1765702800-1765724400@zsikephoto.com
SUMMARY:Újszülött Karácsonyi Workshop
DESCRIPTION:Egy igazi élmény fotózásra hívlak téged! \nIdén karácsonyra gondoltam megleplek benneteket egy igazán különleges workshoppal. A témája a karácsonyi újszülött fotózás\, de nem akárhogyan. \nA vendégünk lesz 2 órára egy igazi Mikulás is! Hmmm milyen szuper lesz\, ahogy fogja a kezében a picurt. \nA tematika: Mikulással készült képek valamint a babáról készült fotók karácsonyi dekorációban. \n  \nA workshopon megmutatom: \n– kellékek használata \n– fényképezőgép beállítások\, fotózási szögek \n– hogyan használd a fényeket \n– hogyan használjuk a karácsonyi kellékeket \n-hogyan készítsünk egyszerű és nagyszerű karácsonyi dekorokt egy újszülött fotózás alkalmával. \nAmire szükséged lesz: fényképezőgép manuál mód ismerete\, 35 vagy 50 mm-es objektív vagy zoom objektív. \nKEZDŐK is jöhetnek! Akár haladó\, akár kezdő fotós vagy hasznos lesz számodra a wokrshop. \nA workshop után 3 hónapig még teljes körűen a rendelkezésedre állok és a tanultakkal\nkapcsolatban mindenben segítek! Létrehozok egy zárt csoportot\, ahol bármikor lehet kérdeznetek\, véleményt kérnetek. \nMax. 5-6 fő részvételével kis csoportban tanulunk!\nÁra: \n110.000 Ft \nAz ár tartalmazza ezeken kívül még: üdítőt és rágcsálnivalót\, kávét \nProgram:\nérkezés 9 órától beszélgetés és elmélet\n10:00-14:00-ig baba fotózás\n14:00- 15:00 óráig  kérdések megválaszolása \nA képeket felhasználhatod a Zsike Photo Workshop megjelölésével a portfóliódban. \nHelyszín: ZsikePhoto stúdió Budapest IV. kerület \n  \nJelentkezéskor 50.000 Ft előleg megfizetése szükséges\, a fennmaradó összeg a Workshop napján esedékes.
URL:https://zsikephoto.com/event/ujszulott-karacsonyi-workshop/
LOCATION:ZsikePhoto\, ZsikePhoto\, Mády Lajos utca 2\, Budapest\, 1041\, Magyarország
ORGANIZER;CN="Feh%C3%A9r-Tarcsi Erzs%C3%A9bet":MAILTO:zsikephoto@gmail.com
END:VEVENT
END:VCALENDAR