BEGIN:VCALENDAR
VERSION:2.0
PRODID:-//ZsikePhoto - ECPv6.15.20//NONSGML v1.0//EN
CALSCALE:GREGORIAN
METHOD:PUBLISH
X-WR-CALNAME:ZsikePhoto
X-ORIGINAL-URL:https://zsikephoto.com
X-WR-CALDESC:Események ZsikePhoto
REFRESH-INTERVAL;VALUE=DURATION:PT1H
X-Robots-Tag:noindex
X-PUBLISHED-TTL:PT1H
BEGIN:VTIMEZONE
TZID:UTC
BEGIN:STANDARD
TZOFFSETFROM:+0000
TZOFFSETTO:+0000
TZNAME:UTC
DTSTART:20240101T000000
END:STANDARD
END:VTIMEZONE
BEGIN:VEVENT
DTSTART;TZID=UTC:20250201T080000
DTEND;TZID=UTC:20250929T200000
DTSTAMP:20260425T225120
CREATED:20240610T101230Z
LAST-MODIFIED:20250128T154526Z
UID:4433-1738396800-1759176000@zsikephoto.com
SUMMARY:Master Class 2025
DESCRIPTION:Regisztráció esetén 50.000 Ft előleg befizetése szükséges. \nA további 250.000 Ft előleg részt 3 héten belül utald el kérlek. \nKérdés esetén a zsikephoto@gmail.com címre írj nyugodtan\, vagy a 06204772330-as számon hívhatsz bátran!
URL:https://zsikephoto.com/event/master-class-2025/
LOCATION:ZsikePhoto\, ZsikePhoto\, Mády Lajos utca 2\, Budapest\, 1041\, Magyarország
ORGANIZER;CN="Feh%C3%A9r-Tarcsi Erzs%C3%A9bet":MAILTO:zsikephoto@gmail.com
END:VEVENT
BEGIN:VEVENT
DTSTART;TZID=UTC:20250201T080000
DTEND;TZID=UTC:20251130T170000
DTSTAMP:20260425T225120
CREATED:20250131T132803Z
LAST-MODIFIED:20250131T132803Z
UID:4915-1738396800-1764522000@zsikephoto.com
SUMMARY:MasterClass 2025 VÁRÓLISTA
DESCRIPTION:Jelentkezésnél kérlek vedd figyelembe\, hogy a csoport csak akkor indul el\, ha összejön a létszám. \nA csoporttal 1 hónapos csúsztatással\, Márciustól-Novemberig fogunk találkozni \nA visszaigazoló email-ben megjelölt bankszámlára az 50.000 Ft előleget küldd el kérlek\, viszont ha a létszám nem jön össze\, természetesen visszautalom a teljes összeget. \nErre a bankszámlára tudsz utalni: \nFehér-Tarcsi Erzsébet\n11742104-24299369 \nKöszönöm 🙂
URL:https://zsikephoto.com/event/masterclass-2025-varolista/
LOCATION:ZsikePhoto\, ZsikePhoto\, Mády Lajos utca 2\, Budapest\, 1041\, Magyarország
ORGANIZER;CN="Feh%C3%A9r-Tarcsi Erzs%C3%A9bet":MAILTO:zsikephoto@gmail.com
END:VEVENT
BEGIN:VEVENT
DTSTART;TZID=UTC:20250910T080000
DTEND;TZID=UTC:20250910T190000
DTSTAMP:20260425T225120
CREATED:20250809T185047Z
LAST-MODIFIED:20250823T181222Z
UID:5006-1757491200-1757530800@zsikephoto.com
SUMMARY:Baba Mama Workshop Szeptember 10
DESCRIPTION:Hozzám hűen egy olyan napot állítottam nektek össze\, amiben minden benne van! Bármit kérdezhettek\, nincsenek titkok\, mindent megmutatok amit tudok.  2 baba-mama páros modellünk lesz\, hogy tényleg a pózok\, fények\, beállítások egész sorát át tudjuk venni. Fogunk fotózni természetes fénnyel és vakuval egyaránt. Használunk több lámpát is\, hogy milyen különbségek és világítási formák vannak\, amik jól mutatnak. Legfőképpen hátterek előtt és sima fal előtt fogunk fotózni az én stúdiómban\, hogy lássátok\, hogyan dolgozok nap mint nap. \n  \nA workshop tematikája: \n– megismerkedünk azokkal a pózokkal amelyek előnyösek a baba-mama páros fotózásoknál\, milyen részletekre kell odafigyelni ilyenkor \n– kellékek és anyagok használata (hogyan tudjuk változatossá tenni a képeket egyetlen egy anyag segítségével\, libbentünk\, dobunk mindent amit kell ) \n– ruhák használata: melyik fazon kinek előnyös \n– fények használata \n– fotózási szögek \n– ügyfelekkel való kommunikáció \n  \nProgram: \n8:30-9 óra között érkezés és ismerkedés \n9-10:30 óráig elmélet \n10:30-12:30 óráig 1. baba-mama páros fotózása \n12:30-13 óráig ebéd \n13-15 óráig 2. baba-mama páros fotózása \nOpcionális Photoshop: min 3 fő esetén +30.000 Ft/fő \n15-17 óráig photoshop retusálás és képelemzés. Hogyan adom át a képeket válogatásra\, hogyan kell a különféle anyagokat látványosabbá tenni\, minden amire csak kíváncsiak vagytok. \n  \nAz ár magában foglalja még a nassolni valót\, üdítőt\, kávét. \n  \n  \nHelyszín: ZsikePhoto stúdió Budapest 4.kerület \nMax. 6 fős csoportban. \n  \n  \nÁra: 120.000 Ft\, az ár alanyi Áfa mentes \nA workshop előtt létrehozok egy privát Facebook csoportot a résztvevők számára\, ahol folyamatosan elérhető leszek és 3 hónapig teljes körűen a csoport rendelkezésére állok majd. \n  \nA képeket felhasználhatod a ZsikePhoto Workshop megjelölésével a portfóliódban. ( Versenyen vagy bármilyen pályázaton nem lehet felhasználni. ) \n  \nJelentkezéskor 50.000 Ft előleg megfizetése szükséges\, a fennmaradó összeg a Workshop napján esedékes.
URL:https://zsikephoto.com/event/baba-mama-workshop-szeptember-10/
LOCATION:ZsikePhoto\, ZsikePhoto\, Mády Lajos utca 2\, Budapest\, 1041\, Magyarország
ORGANIZER;CN="Feh%C3%A9r-Tarcsi Erzs%C3%A9bet":MAILTO:zsikephoto@gmail.com
END:VEVENT
END:VCALENDAR