BEGIN:VCALENDAR
VERSION:2.0
PRODID:-//ZsikePhoto - ECPv6.15.20//NONSGML v1.0//EN
CALSCALE:GREGORIAN
METHOD:PUBLISH
X-WR-CALNAME:ZsikePhoto
X-ORIGINAL-URL:https://zsikephoto.com
X-WR-CALDESC:Események ZsikePhoto
REFRESH-INTERVAL;VALUE=DURATION:PT1H
X-Robots-Tag:noindex
X-PUBLISHED-TTL:PT1H
BEGIN:VTIMEZONE
TZID:UTC
BEGIN:STANDARD
TZOFFSETFROM:+0000
TZOFFSETTO:+0000
TZNAME:UTC
DTSTART:20250101T000000
END:STANDARD
END:VTIMEZONE
BEGIN:VEVENT
DTSTART;TZID=UTC:20260201T080000
DTEND;TZID=UTC:20261130T170000
DTSTAMP:20260425T162053
CREATED:20250704T081242Z
LAST-MODIFIED:20260119T072927Z
UID:4989-1769932800-1796058000@zsikephoto.com
SUMMARY:Master Class 2026
DESCRIPTION:A nagy érdeklődésre való tekintettel\, elindult egy második csoport. 🙂 \nRegisztráció esetén 330.000 Ft előleg befizetése szükséges. \nKérdés esetén a zsikephoto@gmail.com címre írj nyugodtan\, vagy a 06204772330-as számon hívhatsz bátran!
URL:https://zsikephoto.com/event/master-class-2026/
LOCATION:ZsikePhoto\, ZsikePhoto\, Mády Lajos utca 2\, Budapest\, 1041\, Magyarország
ORGANIZER;CN="Feh%C3%A9r-Tarcsi Erzs%C3%A9bet":MAILTO:zsikephoto@gmail.com
END:VEVENT
BEGIN:VEVENT
DTSTART;TZID=UTC:20260318T090000
DTEND;TZID=UTC:20260318T163000
DTSTAMP:20260425T162053
CREATED:20251125T071206Z
LAST-MODIFIED:20260225T090332Z
UID:5110-1773824400-1773851400@zsikephoto.com
SUMMARY:Újszülött Kezdő Workshop Március 18.
DESCRIPTION:Egy workshop ami kifejezetten kezdőkre és a nagyon egyszerű baba fotózási alapokra épül.  Megmutatom azokat a pózokat amikkel érdemes kezdened és amiknek az elsajátítása könnyebben fog menni. \nBemutatom hogyan használom a fényeket\, hogyan pozicionálunk\, megmutatom a fényképezőgép beállításait és a megfelelő fotózási szögeket és fénybeállításokat\, mindeközben pedig gyakorolhatod a különféle technikákat egy speciális oktató babán\, a Standinbaby-n is. Szó lesz a baba biztonságáról és a szülőkkel való kapcsolattartásról\, az újszülött fotózás pszichológiájáról. Milyen kellékeket érdemes venned kezdésként\, hogyan indulj el az úton. Megtanulunk egy wrappolási technikát\, amellyel már el fogsz tudni boldogulni. Elmondom\, hogyan teheted egyszerűen változatossá a sorozatodat és még számos hasznos tudással fogsz gazdagodni. \nA pózok egy újszülött baba modellel és a Standinbaby oktató baba használatával együttesen kerülnek bemutatásra. \nA workshop után 3 hónapig még teljes körűen a rendelkezésedre állok és a tanultakkal\nkapcsolatban mindenben segítek! Létrehozok egy zárt csoportot\, ahol bármikor lehet kérdeznetek\, véleményt kérnetek. \nAmire szükséged lesz: fényképezőgép manuál mód ismerete\, 35 vagy 50 mm-es objektív vagy zoom objektív (ami magába foglalja az előzőekben leírt tartományokat). \nProgram: \n8:30-9 óráig érkezés \n9-11 óráig elméleti oktatás és gyakorlás az oktató babákon \n11-16  óráig egy újszülött baba modell fotózása \n16-16:30 kérdések megválaszolása\, zárszó \nMax. 6 fő részvételével. \nÁra : 120.000 Ft. az ár alanyi Áfa mentes \nAz ár tartalmazza még a nasit\, üdítőt\, kávét \nA képeket a ZsikePhoto Workshop megjelölésével felhasználhatod portfóliód építésére. \nHelyszín: Újpest IV. kerület
URL:https://zsikephoto.com/event/ujszulott-kezdo-workshop-januar-9/
LOCATION:ZsikePhoto\, ZsikePhoto\, Mády Lajos utca 2\, Budapest\, 1041\, Magyarország
ORGANIZER;CN="Feh%C3%A9r-Tarcsi Erzs%C3%A9bet":MAILTO:zsikephoto@gmail.com
END:VEVENT
END:VCALENDAR